BEGIN:VCALENDAR
VERSION:2.0
PRODID:-//Churchill Auctions - ECPv6.15.11//NONSGML v1.0//EN
CALSCALE:GREGORIAN
METHOD:PUBLISH
X-WR-CALNAME:Churchill Auctions
X-ORIGINAL-URL:https://www.churchillauctions.co.uk
X-WR-CALDESC:Events for Churchill Auctions
REFRESH-INTERVAL;VALUE=DURATION:PT1H
X-Robots-Tag:noindex
X-PUBLISHED-TTL:PT1H
BEGIN:VTIMEZONE
TZID:UTC
BEGIN:STANDARD
TZOFFSETFROM:+0000
TZOFFSETTO:+0000
TZNAME:UTC
DTSTART:20230101T000000
END:STANDARD
END:VTIMEZONE
BEGIN:VEVENT
DTSTART;TZID=UTC:20250203T100000
DTEND;TZID=UTC:20250204T170000
DTSTAMP:20260424T084949
CREATED:20241119T131913Z
LAST-MODIFIED:20241119T132145Z
UID:4015-1738576800-1738688400@www.churchillauctions.co.uk
SUMMARY:Feb 3rd-4th: Two-Day Auction of Antiques & Collectables
DESCRIPTION:February Auction in Oxfordshire: Two-Day Sale of Antiques & Collectables. \nJoin us February 3rd-4th 2025 for our monthly two-day sale of antiques and collectables. We will have mix of antique and general items to include jewellery\, militaria\, books\, furniture\, tools\, art\, collectibles\, and much more – usually ranging between 1000-1500 lots. \nWe’ll be open for lot viewing on Thurs 30th\, Fri 31st January\, and Sat 1st February 9am – 4pm and on the mornings of the auction from 9am. Auction starts at 10am on each day. \nPlease be aware of the lot gaps in the numbers\, our sale is broken into sections\, estimated timings can be found punctuated throughout the auction. \nYou can register to bid online or join us in the room to bid on the day. \nIf you are planning to bid please see our Terms & Conditions and Shipping Policy. \nWe look forward to you joining us either online or in the room for our January auction in Oxfordshire. \nA reminder for existing customers – we have moved to our new HQ in Thame\, Oxfordshire.
URL:https://www.churchillauctions.co.uk/auction-dates/february-3rd-4th-two-day-auction-of-antiques-collectables/
ATTACH;FMTTYPE=image/jpeg:https://www.churchillauctions.co.uk/wp-content/uploads/2024/08/Churchill-39-scaled.jpg
END:VEVENT
BEGIN:VEVENT
DTSTART;TZID=UTC:20250106T100000
DTEND;TZID=UTC:20250107T170000
DTSTAMP:20260424T084949
CREATED:20241025T103521Z
LAST-MODIFIED:20241119T112441Z
UID:3999-1736157600-1736269200@www.churchillauctions.co.uk
SUMMARY:Jan 6th-7th: Two-Day Auction of Antiques & Collectables
DESCRIPTION:January Auction in Oxfordshire: Two-Day Sale of Antiques & Collectables. \nJoin us January 6th-7th 2025 for our monthly two-day sale of antiques and collectables. We will have mix of antique and general items to include jewellery\, militaria\, books\, furniture\, tools\, art\, collectibles\, and much more – usually ranging between 1000-1500 lots. \nWe’ll be open for lot viewing on Thurs 2nd\, Fri 3rd\, and Sat 4th January 9am – 4pm and on the mornings of the auction from 9am. Auction starts at 10am on each day. \nPlease be aware of the lot gaps in the numbers\, our sale is broken into sections\, estimated timings can be found punctuated throughout the auction. \nYou can register to bid online or join us in the room to bid on the day. \nIf you are planning to bid please see our Terms & Conditions and Shipping Policy. \nWe look forward to you joining us either online or in the room for our January auction in Oxfordshire. \nA reminder for existing customers – we have moved to our new HQ in Thame\, Oxfordshire.
URL:https://www.churchillauctions.co.uk/auction-dates/january-6th-7th-two-day-auction-of-antiques-collectables/
ATTACH;FMTTYPE=image/jpeg:https://www.churchillauctions.co.uk/wp-content/uploads/2024/07/Churchill-36-scaled.jpg
END:VEVENT
BEGIN:VEVENT
DTSTART;TZID=UTC:20241202T100000
DTEND;TZID=UTC:20241203T170000
DTSTAMP:20260424T084949
CREATED:20240813T111019Z
LAST-MODIFIED:20241115T092544Z
UID:3871-1733133600-1733245200@www.churchillauctions.co.uk
SUMMARY:Dec 2nd-3rd: Two-Day Auction of Antiques & Collectables
DESCRIPTION:December Auction in Oxfordshire: Two-Day Sale of Antiques & Collectables. \nJoin us December 2nd-3rd 2024 for our monthly two-day sale of antiques and collectables. We have a good mix of antique and general items to include jewellery\, militaria\, books\, furniture\, tools\, art\, collectibles\, and much more – usually ranging between 1000-1500 lots. \nWe’ll be open for lot viewing on Thurs 28th\, Fri 29th\, and Sat 30th November 9am – 4pm and on the mornings of the auction from 9am. Auction starts at 10am on each day. \nPlease be aware of the lot gaps in the numbers\, our sale is broken into sections\, estimated timings can be found punctuated throughout the auction. \nYou can register to bid online or join us in the room to bid on the day. \nIf you are planning to bid please see our Terms & Conditions and Shipping Policy. \nWe look forward to you joining us either online or in the room for our December auction in Oxfordshire. \nA reminder for existing customers – we have moved to our new HQ in Thame\, Oxfordshire.
URL:https://www.churchillauctions.co.uk/auction-dates/dec-2nd-3rd-auction-oxfordshire-antiques-collectables/
LOCATION:Churchill Auctioneers\, 6 Lupton Road\, Thame\, Oxfordshire\, OX9 3SE\, United Kingdom
ATTACH;FMTTYPE=image/jpeg:https://www.churchillauctions.co.uk/wp-content/uploads/2024/08/Churchill-Auction-Showroom-scaled.jpg
END:VEVENT
BEGIN:VEVENT
DTSTART;TZID=UTC:20241104T100000
DTEND;TZID=UTC:20241105T170000
DTSTAMP:20260424T084949
CREATED:20240807T084208Z
LAST-MODIFIED:20240814T092810Z
UID:3664-1730714400-1730826000@www.churchillauctions.co.uk
SUMMARY:Nov 4th & 5th: Two-Day Auction of Antiques & Collectables
DESCRIPTION:November Auction in Oxfordshire: Two-Day Sale of Antiques & Collectables. \nJoin us November 2nd-3rd 2024 for our monthly two-day auction of antiques and collectables. We have a good mix of antique and general items to include jewellery\, militaria\, books\, furniture\, tools\, art\, collectibles\, and much more – usually ranging between 1000-1500 lots. \nWe’ll be open for lot viewing on Thurs 31sr\, Fri 1st\, and Sat 2nd November 9am – 4pm and on the mornings of the auction from 9am. Auction starts at 10am on each day. \nPlease be aware of the lot gaps in the numbers\, our sale is broken into sections\, estimated timings can be found punctuated throughout the auction. \nYou can register to bid online or join us in the room to bid on the day. \nIf you are planning to bid please see our Terms & Conditions and Shipping Policy. \nWe look forward to you joining us either online or in the room for our November auction in Oxfordshire. \nA reminder for existing customers – we have moved to our new HQ in Thame\, Oxfordshire. \n  \n  \n 
URL:https://www.churchillauctions.co.uk/auction-dates/november-4th-5th-auction-oxfordshire-antiques-collectables/
LOCATION:Churchill Auctioneers\, 6 Lupton Road\, Thame\, Oxfordshire\, OX9 3SE\, United Kingdom
ATTACH;FMTTYPE=image/jpeg:https://www.churchillauctions.co.uk/wp-content/uploads/2024/08/Churchill-39-scaled.jpg
END:VEVENT
BEGIN:VEVENT
DTSTART;TZID=UTC:20241007T100000
DTEND;TZID=UTC:20241009T170000
DTSTAMP:20260424T084949
CREATED:20240717T130851Z
LAST-MODIFIED:20240927T094131Z
UID:3660-1728295200-1728493200@www.churchillauctions.co.uk
SUMMARY:Oct 7th\, 8th & 9th: Three-Day Auction of Antiques & Collectables
DESCRIPTION:October Auction in Oxfordshire: Three-Day Sale of Antiques & Collectables.\n \nAUCTION CATALOGUE NOW LIVE – CLICK HERE TO VIEW \nJoin us October 7th\, 8th & 9th 2024 for our monthly three-day auction of antiques and collectables. We have a good mix of antique and general items to include jewellery\, militaria\, books\, furniture\, tools\, art\, collectibles\, and much more – usually ranging between 1000-1500 lots. \nWe’ll be open for lot viewing on Thurs 3rd\, Fri 4th\, and Sat 5th October 9am – 4pm and on the mornings of the auction from 9am. Auction starts at 10am on each day. \nPlease be aware of the lot gaps in the numbers\, our sale is broken into sections\, estimated timings can be found punctuated throughout the auction. \nYou can register to bid online or join us in the room to bid on the day. \nIf you are planning to bid please see our Terms & Conditions and Shipping Policy. \nWe look forward to you joining us either online or in the room for our October auction in Oxfordshire. \nA reminder for existing customers – we have moved to our new HQ in Thame\, Oxfordshire.
URL:https://www.churchillauctions.co.uk/auction-dates/october-7th-8th-auction-oxfordshire-antiques-collectables/
LOCATION:Churchill Auctioneers\, 6 Lupton Road\, Thame\, Oxfordshire\, OX9 3SE\, United Kingdom
ATTACH;FMTTYPE=image/jpeg:https://www.churchillauctions.co.uk/wp-content/uploads/2024/07/Churchill-36-scaled.jpg
END:VEVENT
BEGIN:VEVENT
DTSTART;TZID=UTC:20240902T100000
DTEND;TZID=UTC:20240903T170000
DTSTAMP:20260424T084949
CREATED:20240626T144959Z
LAST-MODIFIED:20240820T194706Z
UID:3405-1725271200-1725382800@www.churchillauctions.co.uk
SUMMARY:Sept 2nd-3rd: Two-Day Auction of Antiques & Collectables
DESCRIPTION:September Auction in Oxfordshire: Two-Day Sale of Antiques & Collectables. \nJoin us September 2nd-3rd 2024 for our monthly two-day auction of antiques and collectables. We have a good mix of antique and general items to include jewellery\, militaria\, books\, furniture\, tools\, art\, collectibles\, and much more – usually ranging between 1000-1500 lots. \nWe’ll be open for lot viewing on Thurs 29th\, Fri 30th\, and Sat 31st August 9am – 4pm and on the mornings of the auction from 9am. Auction starts at 10am on each day. \nPlease be aware of the lot gaps in the numbers\, our auction is broken into sections\, estimated timings can be found punctuated throughout the auction. \nYou can register to bid online or join us in the room to bid on the day. \nIf you are planning to bid please see our Terms & Conditions and Shipping Policy. \nWe look forward to you joining us either online or in the room for our September auction in Oxfordshire. \nA reminder for existing customers – we have moved to our new HQ in Thame\, Oxfordshire.
URL:https://www.churchillauctions.co.uk/auction-dates/september-2nd-3rd-auction-oxfordshire-antiques-collectables/
LOCATION:Churchill Auctioneers\, 6 Lupton Road\, Thame\, Oxfordshire\, OX9 3SE\, United Kingdom
ATTACH;FMTTYPE=image/jpeg:https://www.churchillauctions.co.uk/wp-content/uploads/2024/08/Churchill-September-Auction-1.jpeg
END:VEVENT
BEGIN:VEVENT
DTSTART;TZID=UTC:20240805T100000
DTEND;TZID=UTC:20240806T170000
DTSTAMP:20260424T084949
CREATED:20240626T144748Z
LAST-MODIFIED:20240807T143128Z
UID:3403-1722852000-1722963600@www.churchillauctions.co.uk
SUMMARY:Aug 5th-6th: Two-Day Sale of Antiques & Collectors Items
DESCRIPTION:Two-Day Sale of Antique & General Items. \nWe’ll be open for viewing on Thurs 1st\, Fri 2nd\, and Sat 3rd August 9am – 4pm and on the mornings of the sale from 9am. Auction starts at 10am on each day. \nPlease be aware of the lot gaps in the numbers\, our sale is broken into sections\, estimated timings can be found punctuated throughout the sale. \nYou can register to bid online at www.easyliveauction.com or join us in the room to bid on the day. \nWe look forward to you joining us either online or in the room!
URL:https://www.churchillauctions.co.uk/auction-dates/aug-5th-6th-auction-two-day-sale-of-antiques-general-items/
LOCATION:Churchill Auctioneers\, 6 Lupton Road\, Thame\, Oxfordshire\, OX9 3SE\, United Kingdom
ATTACH;FMTTYPE=image/jpeg:https://www.churchillauctions.co.uk/wp-content/uploads/2024/07/Churchill_Auction2-scaled.jpg
END:VEVENT
BEGIN:VEVENT
DTSTART;TZID=UTC:20240715T100000
DTEND;TZID=UTC:20240716T170000
DTSTAMP:20260424T084949
CREATED:20240626T115155Z
LAST-MODIFIED:20240711T115318Z
UID:3398-1721037600-1721149200@www.churchillauctions.co.uk
SUMMARY:July 15th-16th: Two-Day Sale of Antiques & Collectors Items
DESCRIPTION:Two-Day Sale of Antique & General Items. \nWe’ll be open for viewing on Thurs 11th\, Fri 12th\, and Sat 13th July 9am – 4pm and on the mornings of the sale from 9am. Auction starts at 10am on each day. \nPlease be aware of the lot gaps in the numbers\, our sale is broken into sections\, estimated timings can be found punctuated throughout the sale. \nYou can register to bid online at www.easyliveauction.com or join us in the room to bid on the day. \nWe look forward to you joining us either online or in the room!
URL:https://www.churchillauctions.co.uk/auction-dates/june-auction-two-day-sale-of-antiques-general-items/
ATTACH;FMTTYPE=image/jpeg:https://www.churchillauctions.co.uk/wp-content/uploads/2024/07/Churchill_Auction4-scaled.jpg
END:VEVENT
END:VCALENDAR