BEGIN:VCALENDAR
VERSION:2.0
PRODID:-//Churchill Auctions - ECPv6.15.11//NONSGML v1.0//EN
CALSCALE:GREGORIAN
METHOD:PUBLISH
X-ORIGINAL-URL:https://www.churchillauctions.co.uk
X-WR-CALDESC:Events for Churchill Auctions
REFRESH-INTERVAL;VALUE=DURATION:PT1H
X-Robots-Tag:noindex
X-PUBLISHED-TTL:PT1H
BEGIN:VTIMEZONE
TZID:UTC
BEGIN:STANDARD
TZOFFSETFROM:+0000
TZOFFSETTO:+0000
TZNAME:UTC
DTSTART:20230101T000000
END:STANDARD
END:VTIMEZONE
BEGIN:VEVENT
DTSTART;TZID=UTC:20241007T100000
DTEND;TZID=UTC:20241009T170000
DTSTAMP:20260424T180321
CREATED:20240717T130851Z
LAST-MODIFIED:20240927T094131Z
UID:3660-1728295200-1728493200@www.churchillauctions.co.uk
SUMMARY:Oct 7th\, 8th & 9th: Three-Day Auction of Antiques & Collectables
DESCRIPTION:October Auction in Oxfordshire: Three-Day Sale of Antiques & Collectables.\n \nAUCTION CATALOGUE NOW LIVE – CLICK HERE TO VIEW \nJoin us October 7th\, 8th & 9th 2024 for our monthly three-day auction of antiques and collectables. We have a good mix of antique and general items to include jewellery\, militaria\, books\, furniture\, tools\, art\, collectibles\, and much more – usually ranging between 1000-1500 lots. \nWe’ll be open for lot viewing on Thurs 3rd\, Fri 4th\, and Sat 5th October 9am – 4pm and on the mornings of the auction from 9am. Auction starts at 10am on each day. \nPlease be aware of the lot gaps in the numbers\, our sale is broken into sections\, estimated timings can be found punctuated throughout the auction. \nYou can register to bid online or join us in the room to bid on the day. \nIf you are planning to bid please see our Terms & Conditions and Shipping Policy. \nWe look forward to you joining us either online or in the room for our October auction in Oxfordshire. \nA reminder for existing customers – we have moved to our new HQ in Thame\, Oxfordshire.
URL:https://www.churchillauctions.co.uk/auction-dates/october-7th-8th-auction-oxfordshire-antiques-collectables/
LOCATION:Churchill Auctioneers\, 6 Lupton Road\, Thame\, Oxfordshire\, OX9 3SE\, United Kingdom
ATTACH;FMTTYPE=image/jpeg:https://www.churchillauctions.co.uk/wp-content/uploads/2024/07/Churchill-36-scaled.jpg
END:VEVENT
END:VCALENDAR