BEGIN:VCALENDAR
VERSION:2.0
PRODID:-//Churchill Auctions - ECPv6.15.11//NONSGML v1.0//EN
CALSCALE:GREGORIAN
METHOD:PUBLISH
X-ORIGINAL-URL:https://www.churchillauctions.co.uk
X-WR-CALDESC:Events for Churchill Auctions
REFRESH-INTERVAL;VALUE=DURATION:PT1H
X-Robots-Tag:noindex
X-PUBLISHED-TTL:PT1H
BEGIN:VTIMEZONE
TZID:UTC
BEGIN:STANDARD
TZOFFSETFROM:+0000
TZOFFSETTO:+0000
TZNAME:UTC
DTSTART:20240101T000000
END:STANDARD
END:VTIMEZONE
BEGIN:VEVENT
DTSTART;TZID=UTC:20250303T100000
DTEND;TZID=UTC:20250304T170000
DTSTAMP:20260424T090345
CREATED:20241119T135346Z
LAST-MODIFIED:20241119T135447Z
UID:4018-1740996000-1741107600@www.churchillauctions.co.uk
SUMMARY:Mar 3rd-4th: Two-Day Auction of Antiques & Collectables
DESCRIPTION:March Auction in Oxfordshire: Two-Day Sale of Antiques & Collectables. \nJoin us March 3rd-4th 2025 for our monthly two-day sale of antiques and collectables. We will have mix of antique and general items to include jewellery\, militaria\, books\, furniture\, tools\, art\, collectibles\, and much more – usually ranging between 1000-1500 lots. \nWe’ll be open for lot viewing on Thurs 27th\, Fri 28th February\, and Sat 1st March 9am – 4pm and on the mornings of the auction from 9am. Auction starts at 10am on each day. \nPlease be aware of the lot gaps in the numbers\, our sale is broken into sections\, estimated timings can be found punctuated throughout the auction. \nYou can register to bid online or join us in the room to bid on the day. \nIf you are planning to bid please see our Terms & Conditions and Shipping Policy. \nWe look forward to you joining us either online or in the room for our January auction in Oxfordshire. \nA reminder for existing customers – we have moved to our new HQ in Thame\, Oxfordshire.
URL:https://www.churchillauctions.co.uk/auction-dates/march-3rd-4th-two-day-auction-of-antiques-collectables/
ATTACH;FMTTYPE=image/jpeg:https://www.churchillauctions.co.uk/wp-content/uploads/2024/07/Churchill_Auction4-scaled.jpg
END:VEVENT
BEGIN:VEVENT
DTSTART;TZID=UTC:20250325T210000
DTEND;TZID=UTC:20250325T220000
DTSTAMP:20260424T090345
CREATED:20250306T154713Z
LAST-MODIFIED:20250306T163034Z
UID:4237-1742936400-1742940000@www.churchillauctions.co.uk
SUMMARY:March 25th: The Sir Cyril Newall New Zealand Collection Auction
DESCRIPTION:25th March 2025: The Sir Cyril Newall New Zealand Collection Auction \nA Prestigious Auction of Maori Treasures\, Rare Books\, & Artifacts from Sir Cyril Newall’s Tenure as New Zealand’s Governor-General 1941-1946. \nChurchill Auctioneers is honoured to present The Sir Cyril Newall New Zealand Collection\, an extraordinary and historically significant assembly of taonga (Maori treasures)\, rare books\, and cultural artefacts associated with Cyril Louis Norton Newall\, 1st Baron Newall\, GCB\, OM\, GCMG\, CBE\, KStJ\, AM tenure as Governor-General of New Zealand (1941–1946). \nAs a distinguished military leader and statesman\, Sir Cyril played a role in fostering relationships between the Crown and Maori communities. Throughout his time in New Zealand\, he was presented with a remarkable selection of ceremonial Maori carvings\, pounamu (greenstone) artefacts\, and historically important books\, many of which were gifted during official state visits and tribal ceremonies. \nThis auction highlights exceptional and rare pieces\, including an exquisitely carved 19th-century whale bone tokotoko attributed to the master carver Raharuhi Rukupo school\, a waka hoe (ceremonial paddle) attributed to Hone Ngātoto\, and a prestigious 18th-century hei tiki presented to Lady Newall. Additionally\, the collection features a signed first edition of J.H. Mitchell’s Takitimu (1944)\, a historic mere pounamu\, a vintage Maori-language Bible\, and personally inscribed volumes reflecting New Zealand’s history during World War II. \nEach piece in this collection represents a deep cultural and historical connection to New Zealand’s past\, offering collectors\, historians\, and institutions a unique opportunity to acquire museum-quality artefacts with impeccable provenance. \nJoin us for this remarkable event as we honour the enduring legacy of Sir Cyril’s time in Aotearoa and celebrate the artistry\, history\, and tradition embedded within this prestigious collection. \nYou can view the full auction catalogue HERE. \nThe auction will take place on 25th March 2025 at 21:00 GMT. \nYou can register to bid online or join us in the room to bid on the day. \nIf you are planning to bid please see our Terms & Conditions and Shipping Policy. \nWe look forward to you joining us either online or in the room at our auction house in Oxfordshire. \nFor viewing and enquiries please contact: \nVictoria Morley – Client Services \nvictoria@churchillauctions.co.uk \n+44 7768 302 311
URL:https://www.churchillauctions.co.uk/auction-dates/march-25th-the-sir-cyril-newall-new-zealand-collection-auction/
ATTACH;FMTTYPE=image/jpeg:https://www.churchillauctions.co.uk/wp-content/uploads/2024/12/Churchill-27_low-scaled.jpg
END:VEVENT
END:VCALENDAR