BEGIN:VCALENDAR
VERSION:2.0
PRODID:-//Churchill Auctions - ECPv6.15.11//NONSGML v1.0//EN
CALSCALE:GREGORIAN
METHOD:PUBLISH
X-ORIGINAL-URL:https://www.churchillauctions.co.uk
X-WR-CALDESC:Events for Churchill Auctions
REFRESH-INTERVAL;VALUE=DURATION:PT1H
X-Robots-Tag:noindex
X-PUBLISHED-TTL:PT1H
BEGIN:VTIMEZONE
TZID:UTC
BEGIN:STANDARD
TZOFFSETFROM:+0000
TZOFFSETTO:+0000
TZNAME:UTC
DTSTART:20250101T000000
END:STANDARD
END:VTIMEZONE
BEGIN:VEVENT
DTSTART;TZID=UTC:20260202T100000
DTEND;TZID=UTC:20260203T170000
DTSTAMP:20260423T130239
CREATED:20260109T141816Z
LAST-MODIFIED:20260130T112258Z
UID:4804-1770026400-1770138000@www.churchillauctions.co.uk
SUMMARY:February 2nd-4th: Three-Day Sale of Antiques & Collectables
DESCRIPTION:February Auction in Oxfordshire: Two-Day Sale of Antiques & Collectables. \nJoin us February 2nd-4th 2026 for our monthly three-day sale of antiques and collectables. We will have mix of antique and general items to include jewellery\, militaria\, books\, furniture\, tools\, art\, collectibles\, and much more – usually ranging between 1000-1500 lots. \nWe’ll be open for lot viewing on Thurs 29th\, Fri 30th and Sat 31st January 9am – 4pm and on the mornings of the auction from 9am. Auction starts at 10am on each day. \nPlease be aware of the lot gaps in the numbers\, our sale is broken into sections\, estimated timings can be found punctuated throughout the auction. \nYou can register to bid online or join us in the room to bid on the day. \nIf you are planning to bid please see our Terms & Conditions and Shipping Policy. \nWe look forward to you joining us either online or in the room for our February auction in Oxfordshire.
URL:https://www.churchillauctions.co.uk/auction-dates/february-2nd-3rd-two-day-sale-of-antiques-collectables/
ATTACH;FMTTYPE=image/jpeg:https://www.churchillauctions.co.uk/wp-content/uploads/2024/07/Churchill_Auction4-scaled.jpg
END:VEVENT
END:VCALENDAR